BEGIN:VCALENDAR
VERSION:2.0
PRODID:-//ChamberMaster//Event Calendar 2.0//EN
METHOD:PUBLISH
X-PUBLISHED-TTL:P3D
REFRESH-INTERVAL:P3D
CALSCALE:GREGORIAN
BEGIN:VEVENT
DTSTART:20200812T164500Z
DTEND:20200812T180000Z
X-MICROSOFT-CDO-ALLDAYEVENT:FALSE
SUMMARY:August 2020 Luncheon & Annual Meeting
DESCRIPTION:Sponsored by Fort Leonard Wood Hotels\n\nCatered by Route 66 Taco Company\n\nRSVPs Required. Guests Welcome\n\nThis is our Annual Meeting with a special agenda and awards. There will NOT be Community Updates. \n\n***This luncheon has a seating limit to comply with social distancing.*** \n\n**Please note** The Chamber of Commerce is excited to have such a large number of its members attend monthly luncheons. Unfortunately\, due to the large number of last minute Chamber luncheon attendees a policy has been put into place by the Chamber Board of Directors. This policy started in APRIL 2005\; anyone who responds after the R.s.v.p. cut-off time (9:00 a.m. the Tuesday before the luncheon) or shows up without an R.s.v.p. may be charged an additional $12. If an R.s.v.p. is received and they do not attend the luncheon there may be a $12 charged for the meal. The decision was made to charge this amount to compensate our Chamber member restaurants for the last minute adjusts they must make to their menus.
X-ALT-DESC;FMTTYPE=text/html:<span style="font-size:16px\;"><strong>Sponsored by Fort Leonard Wood Hotels</strong></span><br />\n<span style="font-size:11px\;"><span style="font-size:12px\;">Catered by Route 66 Taco Company</span></span><br />\nRSVPs Required. Guests Welcome<br />\nThis is our Annual Meeting with a special agenda and awards. There will NOT be Community Updates.&nbsp\;<br />\n<span style="color:#FF0000\;">***This luncheon has a seating limit to comply with social distancing.***&nbsp\;</span><br />\n*<strong>*Please note** The Chamber of Commerce is excited to have such a large number of its members attend monthly luncheons. Unfortunately\, due to the large number of last minute Chamber luncheon attendees a policy has been put into place by the Chamber Board of Directors. This policy started in APRIL 2005\; anyone who responds after the R.s.v.p. cut-off time (9:00 a.m. the Tuesday before the luncheon) or shows up without an R.s.v.p. may be charged an additional $12. If an R.s.v.p. is received and they do not attend the luncheon there may be a $12 charged for the meal. The decision was made to charge this amount to compensate our Chamber member restaurants for the last minute adjusts they must make to their menus.</strong>
LOCATION:Hampton Inn
UID:e.1870.2372
SEQUENCE:3
DTSTAMP:20260423T071815Z
URL:https://members.waynesville-strobertchamber.com/events/details/august-2020-luncheon-annual-meeting-2372
END:VEVENT

END:VCALENDAR
