BEGIN:VCALENDAR
VERSION:2.0
PRODID:-//ChamberMaster//Event Calendar 2.0//EN
METHOD:PUBLISH
X-PUBLISHED-TTL:P3D
REFRESH-INTERVAL:P3D
CALSCALE:GREGORIAN
BEGIN:VEVENT
DTSTART:20210817T140000Z
DTEND:20210817T150000Z
X-MICROSOFT-CDO-ALLDAYEVENT:FALSE
SUMMARY:Beginner Social Media Workshop Aug 2021
DESCRIPTION:Join the Chamber for a seminar focused on how to effectively use social media to market your business or organization. Seminar will be Tuesday\, August 17th from 9:00 a.m.\, RSVP by Friday\, August 13th by calling 573-336-5121 or email chamber@wsrchamber.com. Tise seminar is FREE to Chamber Members. Bring a Laptop\, tablet or Ipad.
X-ALT-DESC;FMTTYPE=text/html:Join the Chamber for a seminar focused on how to effectively use social media to market your business or organization. Seminar will be Tuesday\, August 17th from 9:00 a.m.\, RSVP by Friday\, August 13th by calling 573-336-5121 or email <a href="mailto:chamber@wsrchamber.com">chamber@wsrchamber.com</a>. Tise seminar is FREE to Chamber Members. Bring a Laptop\, tablet or Ipad.
LOCATION:Chamber Office
UID:e.1870.2409
SEQUENCE:3
DTSTAMP:20260422T124019Z
URL:https://members.waynesville-strobertchamber.com/events/details/beginner-social-media-workshop-aug-2021-2409
END:VEVENT

END:VCALENDAR
