BEGIN:VCALENDAR
VERSION:2.0
PRODID:-//ChamberMaster//Event Calendar 2.0//EN
METHOD:PUBLISH
X-PUBLISHED-TTL:P3D
REFRESH-INTERVAL:P3D
CALSCALE:GREGORIAN
BEGIN:VEVENT
DTSTART:20170621T140000Z
DTEND:20170621T150000Z
X-MICROSOFT-CDO-ALLDAYEVENT:FALSE
SUMMARY:Chamber Benefits Workshop / June 2017
DESCRIPTION:Do you REALLY know your Chamber Benefits? Are you looking for Visibility or Recognition for your business or organization\, maybe Networking or Community Involvement is what you want. Whatever you're looking for\, the Chamber will help you utilize the benefits of your membership.\n\nOn June 22nd the Chamber is hosting a workshop to educate you\, our member on the benefits we provide and how to use them to enhance your overall membership. The workshop will be held in the Tourism Meeting room\, next to the Chamber office from 9 a.m. to 10 a.m.\n\nSpace is limited\, please RSVP by June 20th atchamber@wsrchamber.com or call 573-336-5121.
X-ALT-DESC;FMTTYPE=text/html:<p style="font-family: Arial\, Helvetica\, sans-serif\;">Do you REALLY know your Chamber Benefits? Are you looking for Visibility or Recognition for your business or organization\, maybe Networking or Community Involvement is what you want. Whatever you&#39\;re looking for\, the Chamber will help you utilize the benefits of your membership.</p>\n\n<p style="font-family: Arial\, Helvetica\, sans-serif\;">On June 22nd the Chamber is hosting a workshop to educate you\, our member on the benefits we provide and how to use them to enhance your overall membership. The workshop will be held in the Tourism Meeting room\, next to the Chamber office from 9 a.m. to 10 a.m.</p>\n\n<p style="font-family: Arial\, Helvetica\, sans-serif\;">Space is limited\, please RSVP by June 20th at<a href="mailto:chamber@wsrchamber.com" style="color: rgb(153\, 0\, 0)\;">chamber</a><a href="mailto:chamber@wsrchamber.com" style="color: rgb(153\, 0\, 0)\;">@wsrchamber.com</a>&nbsp\;or call 573-336-5121.</p>\n
LOCATION:
UID:e.1870.2264
SEQUENCE:3
DTSTAMP:20260425T153455Z
URL:https://members.waynesville-strobertchamber.com/events/details/chamber-benefits-workshop-june-2017-2264
END:VEVENT

END:VCALENDAR
