BEGIN:VCALENDAR
VERSION:2.0
PRODID:-//ChamberMaster//Event Calendar 2.0//EN
METHOD:PUBLISH
X-PUBLISHED-TTL:P3D
REFRESH-INTERVAL:P3D
CALSCALE:GREGORIAN
BEGIN:VEVENT
DTSTART:20210426T163000Z
DTEND:20210426T180000Z
X-MICROSOFT-CDO-ALLDAYEVENT:FALSE
SUMMARY:Chamber Keys To Success Workshop 2021
DESCRIPTION:Chamber membership comes with a lot of benefits such as Visibility\, Recognition\, and Networking to name a few. The Chamber is hosting a workshop to educate our members on what your benefits are and how to use them to enhance your overall membership. The workshop will also focus on how to use the ChamberMaster website and MyChamberApp.
X-ALT-DESC;FMTTYPE=text/html:Chamber membership comes with a lot of benefits such as Visibility\, Recognition\, and Networking to name a few. The Chamber is hosting a workshop to educate our members on what your benefits are and how to use them to enhance your overall membership. The workshop will also focus on how to use the ChamberMaster website and MyChamberApp.&nbsp\;
LOCATION:Chamber Office/Zoom
UID:e.1870.2407
SEQUENCE:3
DTSTAMP:20260422T185806Z
URL:https://members.waynesville-strobertchamber.com/events/details/chamber-keys-to-success-workshop-2021-2407
END:VEVENT

END:VCALENDAR
