BEGIN:VCALENDAR
VERSION:2.0
PRODID:-//ChamberMaster//Event Calendar 2.0//EN
METHOD:PUBLISH
X-PUBLISHED-TTL:P3D
REFRESH-INTERVAL:P3D
CALSCALE:GREGORIAN
BEGIN:VEVENT
DTSTART:20170211T000000Z
DTEND:20170211T020000Z
X-MICROSOFT-CDO-ALLDAYEVENT:FALSE
SUMMARY:Community Leadership Awards Banquet 17
DESCRIPTION:
X-ALT-DESC;FMTTYPE=text/html:
LOCATION:Stone Brook Center
UID:e.1870.2260
SEQUENCE:3
DTSTAMP:20260425T195442Z
URL:https://members.waynesville-strobertchamber.com/events/details/community-leadership-awards-banquet-17-2260
END:VEVENT

END:VCALENDAR
