BEGIN:VCALENDAR
VERSION:2.0
PRODID:-//ChamberMaster//Event Calendar 2.0//EN
METHOD:PUBLISH
X-PUBLISHED-TTL:P3D
REFRESH-INTERVAL:P3D
CALSCALE:GREGORIAN
BEGIN:VEVENT
DTSTART:20210213T000000Z
DTEND:20210213T030000Z
X-MICROSOFT-CDO-ALLDAYEVENT:FALSE
SUMMARY:Community Leadership Awards Banquet 2021
DESCRIPTION:
X-ALT-DESC;FMTTYPE=text/html:
LOCATION:The ARK Community & Sports Center
UID:e.1870.2406
SEQUENCE:3
DTSTAMP:20260422T220652Z
URL:https://members.waynesville-strobertchamber.com/events/details/community-leadership-awards-banquet-2021-2406
END:VEVENT

END:VCALENDAR
