BEGIN:VCALENDAR
VERSION:2.0
PRODID:-//ChamberMaster//Event Calendar 2.0//EN
METHOD:PUBLISH
X-PUBLISHED-TTL:P3D
REFRESH-INTERVAL:P3D
CALSCALE:GREGORIAN
BEGIN:VEVENT
DTSTART:20200520T163000Z
DTEND:20200520T180000Z
X-MICROSOFT-CDO-ALLDAYEVENT:FALSE
SUMMARY:Eggs & Issues Lunch 2020
DESCRIPTION:
X-ALT-DESC;FMTTYPE=text/html:
LOCATION:Hampton Inn
UID:e.1870.2380
SEQUENCE:3
DTSTAMP:20260423T113221Z
URL:https://members.waynesville-strobertchamber.com/events/details/eggs-issues-lunch-2020-2380
END:VEVENT

END:VCALENDAR
