BEGIN:VCALENDAR
VERSION:2.0
PRODID:-//ChamberMaster//Event Calendar 2.0//EN
METHOD:PUBLISH
X-PUBLISHED-TTL:P3D
REFRESH-INTERVAL:P3D
CALSCALE:GREGORIAN
BEGIN:VEVENT
DTSTART:20200720T170000Z
DTEND:20200720T180000Z
X-MICROSOFT-CDO-ALLDAYEVENT:FALSE
SUMMARY:Grow with Google Webinar - July 2020
DESCRIPTION:Put my Business on the Map\, is a workshop that the Chamber will be hosting partnered with Google.  This workshop is an opportunity for all Chamber Members to learn how to ensure that their business can be found on Google with accurate and up to date information.\nYou can attract and engage customers with the features listed below:\n\n\n	Update your Profile with current hours\, address\, and phone number.\n	Post Photos\, offers\, and news directly on your Business Profile to catch attention.\n	See your followers from Google Maps.\n	Respond to customer reviews to build credibility and loyalty. \n	Turn on Messaging to help customers get in touch.\n	Explore Insights to see how customers find and engage with you business Profile.\n	Create a free website to tell your business's story online.
X-ALT-DESC;FMTTYPE=text/html:Put my Business on the Map\, is a workshop that the Chamber will be hosting partnered with Google. &nbsp\;This workshop is an opportunity for all Chamber Members to learn how to ensure that their business can be found on Google with accurate and up to date information.\n<p><span style="font-size:12px\;"><span style="font-family: verdana\;"><em><u>You can attract and engage customers with the features listed below:</u></em></span></span></p>\n\n<ul>\n	<li><span style="font-size:12px\;"><span style="font-family: verdana\;"><strong>Update your Profile</strong>&nbsp\;with current hours\, address\, and phone number.</span></span></li>\n	<li><span style="font-size:12px\;"><span style="font-family: verdana\;"><strong>Post Photos\, offers\, and news</strong>&nbsp\;directly on your Business Profile to catch attention.</span></span></li>\n	<li><span style="font-size:12px\;"><span style="font-family: verdana\;"><strong>See your followers</strong>&nbsp\;from Google Maps.</span></span></li>\n	<li><span style="font-size:12px\;"><span style="font-family: verdana\;"><strong>Respond to customer reviews</strong>&nbsp\;to build credibility and loyalty.&nbsp\;</span></span></li>\n	<li><span style="font-size:12px\;"><span style="font-family: verdana\;"><strong>Turn on Messaging&nbsp\;</strong>to help customers get in touch.</span></span></li>\n	<li><span style="font-size:12px\;"><span style="font-family: verdana\;"><strong>Explore Insights</strong>&nbsp\;to&nbsp\;see how customers find and engage with you business Profile.</span></span></li>\n	<li><span style="font-size:12px\;"><span style="font-family: verdana\;"><strong>Create a free website</strong>&nbsp\;to tell your business's story online.&nbsp\;</span></span></li>\n</ul>\n
LOCATION:ZOOM Video Conferencing
UID:e.1870.2381
SEQUENCE:3
DTSTAMP:20260423T102244Z
URL:https://members.waynesville-strobertchamber.com/events/details/grow-with-google-webinar-july-2020-2381
END:VEVENT

END:VCALENDAR
