BEGIN:VCALENDAR
VERSION:2.0
PRODID:-//ChamberMaster//Event Calendar 2.0//EN
METHOD:PUBLISH
X-PUBLISHED-TTL:P3D
REFRESH-INTERVAL:P3D
CALSCALE:GREGORIAN
BEGIN:VEVENT
DTSTART:20200610T164500Z
DTEND:20200610T180000Z
X-MICROSOFT-CDO-ALLDAYEVENT:FALSE
SUMMARY:June 2020 VIRTUAL Luncheon
DESCRIPTION:ATTEND OUR MONTHLY LUNCHEON FROM YOUR OFFICE OR HOME \n\n \n\nDATE: June 10TH\n\nTIME: 11:45 A.M.\n\nSPONSORED BY: Ireland Architects\n\nCOST: FREE\n\nFOOD: Support Panera Bread (who was scheduled to cater this month) Order at 573-336-4488 or online. \n\n\n\nRSVP by 4:30 p.m. on Tuesday\, June 9th. \n\n \n\n\n\n*Standing Reservations DO NOT apply to this month's Luncheon*
X-ALT-DESC;FMTTYPE=text/html:<span style="language:en-US\;"><span style="font-family:berlin sans fb demi\;"><span style="font-size:14.0pt\;"><strong>ATTEND OUR MONTHLY LUNCHEON FROM YOUR OFFICE OR HOME</strong> </span></span></span><br />\n&nbsp\;<br />\n<span style="font-size:18px\;"><span style="font-family:berlin sans fb\;">DATE: June 10TH</span><br />\n<span style="font-family:berlin sans fb\;">TIME: 11:45 A.M.<br />\nSPONSORED BY: Ireland Architects</span><br />\n<span style="font-family:berlin sans fb\;">COST: FREE</span><br />\n<span style="font-family:berlin sans fb\;">FOOD: Support Panera Bread (who was scheduled to cater this month) Order at 573-336-4488 or <a href="https://delivery.panerabread.com/?utm_medium=brand-site&amp\;utm_source=topnav-link&amp\;utm_campaign=order-online&amp\;utm_content=order-online-pb-cta">online</a>.&nbsp\;</span></span><br />\n<br />\n<span style="language:en-US\;"><span style="font-family:bahnschrift semilight\;"><span style="font-size:14.0pt\;">RSVP by 4:30 p.m. on Tuesday\, June 9th. </span></span></span><br />\n&nbsp\;<br />\n<br />\n<strong><span style="font-size:16px\;">*Standing Reservations DO NOT apply to this month&#39\;s Luncheon*</span></strong>
LOCATION:Your Home or Office on your desktop\, laptop\, or smart device.
UID:e.1870.2395
SEQUENCE:3
DTSTAMP:20260423T114725Z
URL:https://members.waynesville-strobertchamber.com/events/details/june-2020-virtual-luncheon-2395
END:VEVENT

END:VCALENDAR
