BEGIN:VCALENDAR
VERSION:2.0
PRODID:-//ChamberMaster//Event Calendar 2.0//EN
METHOD:PUBLISH
X-PUBLISHED-TTL:P3D
REFRESH-INTERVAL:P3D
CALSCALE:GREGORIAN
BEGIN:VEVENT
DTSTART:20200311T164500Z
DTEND:20200311T180000Z
X-MICROSOFT-CDO-ALLDAYEVENT:FALSE
SUMMARY:March 2020Luncheon
DESCRIPTION:Sponsored by: Sakelaris Ford\n\n\n\n**Please note** The Chamber of Commerce is excited to have such a large number of its members attend monthly luncheons. Unfortunately\, due to the large number of last minute Chamber luncheon attendees a policy has been put into place by the Chamber Board of Directors. This policy started in APRIL 2005\; anyone who responds after the R.s.v.p. cut-off time (9:00 a.m. the Tuesday before the luncheon) or shows up without an R.s.v.p. may be charged an additional $12. If an R.s.v.p. is received and they do not attend the luncheon there may be a $12 charged for the meal. The decision was made to charge this amount to compensate our Chamber member restaurants for the last minute adjusts they must make to their menus.
X-ALT-DESC;FMTTYPE=text/html:<span style="font-size: 16px\;">Sponsored by: Sakelaris Ford</span><br />\n<br />\n<strong>**Please note** The Chamber of Commerce is excited to have such a large number of its members attend monthly luncheons. Unfortunately\, due to the large number of last minute Chamber luncheon attendees a policy has been put into place by the Chamber Board of Directors. This policy started in APRIL 2005\; anyone who responds after the R.s.v.p. cut-off time (9:00 a.m. the Tuesday before the luncheon) or shows up without an R.s.v.p. may be charged an additional $12. If an R.s.v.p. is received and they do not attend the luncheon there may be a $12 charged for the meal. The decision was made to charge this amount to compensate our Chamber member restaurants for the last minute adjusts they must make to their menus.</strong><br />\n<br />\n&nbsp\;
LOCATION:Hoppers Pub
UID:e.1870.2367
SEQUENCE:3
DTSTAMP:20260423T142244Z
URL:https://members.waynesville-strobertchamber.com/events/details/march-2020luncheon-2367
END:VEVENT

END:VCALENDAR
