BEGIN:VCALENDAR
VERSION:2.0
PRODID:-//ChamberMaster//Event Calendar 2.0//EN
METHOD:PUBLISH
X-PUBLISHED-TTL:P3D
REFRESH-INTERVAL:P3D
CALSCALE:GREGORIAN
BEGIN:VEVENT
DTSTART:20200513T164500Z
DTEND:20200513T180000Z
X-MICROSOFT-CDO-ALLDAYEVENT:FALSE
SUMMARY:May 2020 VIRTUAL Luncheon
DESCRIPTION:ATTEND OUR MONTHLY LUNCHEON FROM YOUR OFFICE OR HOME \n\n \n\nDATE: MAY 13TH\n\nTIME: 11:45 A.M.\n\nCOST: FREE\n\nFOOD: PICK UP YOUR LUNCH FROM ONE OR MANY OF OUR RESTAURANT MEMBERS\n\n\n\nRSVP by 9 a.m. on Tuesday\, May 12th. \n\n \n\n\n\n*Standing Reservations DO NOT apply to this month's Luncheon*
X-ALT-DESC;FMTTYPE=text/html:<span style="language:en-US\;"><span style="font-family:berlin sans fb demi\;"><span style="font-size:14.0pt\;"><strong>ATTEND OUR MONTHLY LUNCHEON FROM YOUR OFFICE OR HOME</strong> </span></span></span><br />\n&nbsp\;<br />\n<span style="font-size:18px\;"><span style="font-family:berlin sans fb\;">DATE: MAY 13TH</span><br />\n<span style="font-family:berlin sans fb\;">TIME: 11:45 A.M.</span><br />\n<span style="font-family:berlin sans fb\;">COST: FREE</span><br />\n<span style="font-family:berlin sans fb\;">FOOD: PICK UP YOUR LUNCH FROM ONE OR MANY OF OUR RESTAURANT MEMBERS</span></span><br />\n<br />\n<span style="language:en-US\;"><span style="font-family:bahnschrift semilight\;"><span style="font-size:14.0pt\;">RSVP by 9 a.m. on Tuesday\, May 12th. </span></span></span><br />\n&nbsp\;<br />\n<br />\n<strong><span style="font-size:16px\;">*Standing Reservations DO NOT apply to this month&#39\;s Luncheon*</span></strong>
LOCATION:Your Home or Office on your desktop\, laptop\, or smart device.
UID:e.1870.2393
SEQUENCE:3
DTSTAMP:20260423T111805Z
URL:https://members.waynesville-strobertchamber.com/events/details/may-2020-virtual-luncheon-2393
END:VEVENT

END:VCALENDAR
