BEGIN:VCALENDAR
VERSION:2.0
PRODID:-//ChamberMaster//Event Calendar 2.0//EN
METHOD:PUBLISH
X-PUBLISHED-TTL:P3D
REFRESH-INTERVAL:P3D
CALSCALE:GREGORIAN
BEGIN:VEVENT
DTSTART:20170727T230000Z
DTEND:20170728T040000Z
X-MICROSOFT-CDO-ALLDAYEVENT:FALSE
SUMMARY:Membership Social 2017
DESCRIPTION:
X-ALT-DESC;FMTTYPE=text/html:
LOCATION:Hampton Inn
UID:e.1870.2266
SEQUENCE:3
DTSTAMP:20260425T123337Z
URL:https://members.waynesville-strobertchamber.com/events/details/membership-social-2017-2266
END:VEVENT

END:VCALENDAR
