BEGIN:VCALENDAR
VERSION:2.0
PRODID:-//ChamberMaster//Event Calendar 2.0//EN
METHOD:PUBLISH
X-PUBLISHED-TTL:P3D
REFRESH-INTERVAL:P3D
CALSCALE:GREGORIAN
BEGIN:VEVENT
DTSTART:20180621T223000Z
DTEND:20180622T040000Z
X-MICROSOFT-CDO-ALLDAYEVENT:FALSE
SUMMARY:Membership Social 2018
DESCRIPTION:The 2018 Membership Social will be June 21st at 5:30 p.m. at the Hampton Inn with Andy's 417 catering the food. This annual membership social is a night of networking\, fun and entertainment with the annual Bottle Auction.  Please call the Chamber office at 573-336-5121 no later than 9:00 a.m. June 18th to make your reservations.\n\n \nThe Membership Bottle Auction is a fun addition for members to promote their business as well as learn about other member businesses. Participating members donate a bottle decorated in a way that no one can tell what it contains. The bottle needs to be related in some way to your business. For example\, if you are a dry cleaner you could wrap up a bottle of detergent with a gift certificate for dry cleaning. During the social the bottles will be displayed then auctioned. No one will know what each bottle contains until after it is won. All money raised during the Membership Bottle Auction will go to the "It's All Here" shop local ad campaign and in support of Shop Small Business Saturday.\n\n"Keep it Local\, This is our Home and It's All Here!" If you would like to donate a bottle contact the Chamber office at 573-336-5121 or email chamber@wsrchamber.com. All bottles are due to the Chamber office by 5:00pm June 20th.\n\nYou might win big or get a dud\, but the Membership Bottle Auction will be an exciting addition to the 2018 Membership Social.
X-ALT-DESC;FMTTYPE=text/html:<span style="color: rgb(0\, 0\, 102)\; font-family: Verdana\, Arial\, Helvetica\, sans-serif\; font-size: 12px\; background-color: rgb(255\, 255\, 255)\;">The 2018 Membership Social will be&nbsp\;</span><b style="color: rgb(0\, 0\, 102)\; font-family: Verdana\, Arial\, Helvetica\, sans-serif\; font-size: 12px\; background-color: rgb(255\, 255\, 255)\;">June 21st&nbsp\;</b><span style="color: rgb(0\, 0\, 102)\; font-family: Verdana\, Arial\, Helvetica\, sans-serif\; font-size: 12px\; background-color: rgb(255\, 255\, 255)\;">at 5:30 p.m. at the Hampton Inn with Andy&#39\;s 417 catering the food. This annual membership social is a night of networking\, fun and entertainment with the annual Bottle Auction.&nbsp\; Please call the Chamber office at 573-336-5121 no later than 9:00 a.m.&nbsp\;</span><b style="color: rgb(0\, 0\, 102)\; font-family: Verdana\, Arial\, Helvetica\, sans-serif\; font-size: 12px\; background-color: rgb(255\, 255\, 255)\;">June 18th&nbsp\;</b><span style="color: rgb(0\, 0\, 102)\; font-family: Verdana\, Arial\, Helvetica\, sans-serif\; font-size: 12px\; background-color: rgb(255\, 255\, 255)\;">to make your reservations.</span><br />\n&nbsp\;\n<p style="color: rgb(0\, 0\, 102)\; font-family: Verdana\, Arial\, Helvetica\, sans-serif\; font-size: 12px\;">The Membership Bottle Auction is a fun addition for members to promote their business as well as learn about other member businesses. Participating members donate a bottle decorated in a way that no one can tell what it contains. The bottle needs to be related in some way to your business. For example\, if you are a dry cleaner you could wrap up a bottle of detergent with a gift certificate for dry cleaning. During the social the bottles will be displayed then auctioned. No one will know what each bottle contains until after it is won. All money raised during the Membership Bottle Auction will go to the &quot\;It&#39\;s All Here&quot\; shop local ad campaign and in support of Shop Small Business Saturday.</p>\n\n<p style="color: rgb(0\, 0\, 102)\; font-family: Verdana\, Arial\, Helvetica\, sans-serif\; font-size: 12px\;"><b>&quot\;Keep it Local\, This is our Home and It&#39\;s All Here!&quot\;</b>&nbsp\;If you would like to donate a bottle contact the Chamber office at 573-336-5121 or email&nbsp\;<a href="mailto:chamber@wsrchamber.com" style="color: rgb(0\, 0\, 51)\;">chamber@wsrchamber.com</a>. All bottles are due to the Chamber office by 5:00pm June 20th.</p>\n\n<p style="color: rgb(0\, 0\, 102)\; font-family: Verdana\, Arial\, Helvetica\, sans-serif\; font-size: 12px\;">You might win big or get a dud\, but the Membership Bottle Auction will be an exciting addition to the 2018 Membership Social.</p>\n
LOCATION:Hampton Inn
UID:e.1870.2308
SEQUENCE:3
DTSTAMP:20260424T204030Z
URL:https://members.waynesville-strobertchamber.com/events/details/membership-social-2018-2308
END:VEVENT

END:VCALENDAR
