BEGIN:VCALENDAR
VERSION:2.0
PRODID:-//ChamberMaster//Event Calendar 2.0//EN
METHOD:PUBLISH
X-PUBLISHED-TTL:P3D
REFRESH-INTERVAL:P3D
CALSCALE:GREGORIAN
BEGIN:VEVENT
DTSTART:20201118T174500Z
DTEND:20201118T190000Z
X-MICROSOFT-CDO-ALLDAYEVENT:FALSE
SUMMARY:November 2020 Luncheon - CANCELLED
DESCRIPTION:Due to COVID-19 exposure the November Luncheon on the 18th has been cancelled\n\n\n\nSponsored by Mercy Clinic - St. Robert\n\n\n\n**Please note** The Chamber of Commerce is excited to have such a large number of its members attend monthly luncheons. Unfortunately\, due to the large number of last minute Chamber luncheon attendees a policy has been put into place by the Chamber Board of Directors. This policy started in APRIL 2005\; anyone who responds after the R.s.v.p. cut-off time (9:00 a.m. the Tuesday before the luncheon) or shows up without an R.s.v.p. may be charged an additional $12. If an R.s.v.p. is received and they do not attend the luncheon there may be a $12 charged for the meal. The decision was made to charge this amount to compensate our Chamber member restaurants for the last minute adjusts they must make to their menus.
X-ALT-DESC;FMTTYPE=text/html:<strong><span style="font-family:arial\,sans-serif\;"><span style="font-size:12.0pt\;">Due to COVID-19 exposure&nbsp\;the November Luncheon on the 18th has been cancelled</span></span><br />\n<br />\n<span style="font-size:16px\;">Sponsored by Mercy Clinic - St. Robert</span><br />\n<br />\n**Please note** The Chamber of Commerce is excited to have such a large number of its members attend monthly luncheons. Unfortunately\, due to the large number of last minute Chamber luncheon attendees a policy has been put into place by the Chamber Board of Directors. This policy started in APRIL 2005\; anyone who responds after the R.s.v.p. cut-off time (9:00 a.m. the Tuesday before the luncheon) or shows up without an R.s.v.p. may be charged an additional $12. If an R.s.v.p. is received and they do not attend the luncheon there may be a $12 charged for the meal. The decision was made to charge this amount to compensate our Chamber member restaurants for the last minute adjusts they must make to their menus.</strong>
LOCATION:The ARK Community & Sports Center
UID:e.1870.2375
SEQUENCE:3
DTSTAMP:20260423T034109Z
URL:https://members.waynesville-strobertchamber.com/events/details/november-2020-luncheon-cancelled-2375
END:VEVENT

END:VCALENDAR
