BEGIN:VCALENDAR
VERSION:2.0
PRODID:-//ChamberMaster//Event Calendar 2.0//EN
METHOD:PUBLISH
X-PUBLISHED-TTL:P3D
REFRESH-INTERVAL:P3D
CALSCALE:GREGORIAN
BEGIN:VEVENT
DTSTART:20210123T170000Z
DTEND:20210123T210000Z
X-MICROSOFT-CDO-ALLDAYEVENT:FALSE
SUMMARY:Polar Meltdown Chili Cook-Off 2021
DESCRIPTION:The Chamber will kick off 2021 with the 14th annual Polar Meltdown Chili Cook-Off to be held on January 23rd at The ARK Community and Sports Center from 11 a.m. to 3 p.m. An event the whole family can enjoy\, the Polar Meltdown Chili Cook-off lets you come in from the cold and let your spirits melt into a pot of delicious chili served up by one of our hometown chefs!
X-ALT-DESC;FMTTYPE=text/html:The Chamber will kick off 2021 with the 14th annual Polar Meltdown Chili Cook-Off to be held on&nbsp\;<font color="#000000">January 23rd</font><font color="#ff0000">&nbsp\;</font>at The ARK Community and Sports Center from 11 a.m. to 3 p.m. An event the whole family can enjoy\, the Polar Meltdown Chili Cook-off lets you come in from the cold and let your spirits melt into a pot of delicious chili served up by one of our hometown chefs!
LOCATION:The ARK Community and Sports Center
UID:e.1870.2398
SEQUENCE:3
DTSTAMP:20260422T234537Z
URL:https://members.waynesville-strobertchamber.com/events/details/polar-meltdown-chili-cook-off-2021-2398
END:VEVENT

END:VCALENDAR
