BEGIN:VCALENDAR
VERSION:2.0
PRODID:-//ChamberMaster//Event Calendar 2.0//EN
METHOD:PUBLISH
X-PUBLISHED-TTL:P3D
REFRESH-INTERVAL:P3D
CALSCALE:GREGORIAN
BEGIN:VEVENT
DTSTART:20180129T150000Z
DTEND:20180129T160000Z
X-MICROSOFT-CDO-ALLDAYEVENT:FALSE
SUMMARY:Put My Business on the Map sponsored by Google January 2018
DESCRIPTION:Google Map Workshop\n\n\n	Put your business on the map with help from the Chamber in partnership with Google.\n	This is an opportunity for all Chamber Members to learn how to ensure that their business can be found on Google with accurate and up to date information.\n	Space is limited\; Register by 5 p.m. on January 24th.
X-ALT-DESC;FMTTYPE=text/html:<p style="font-family: Arial\, Helvetica\, sans-serif\;"><strong>Google Map Workshop</strong></p>\n\n<ul>\n	<li>Put your business on the map with help from the Chamber in partnership with Google.</li>\n	<li>This is an opportunity for all Chamber Members to learn how to ensure that their business can be found on Google with accurate and up to date information.</li>\n	<li>Space is limited\; Register by 5 p.m. on January 24th.&nbsp\;</li>\n</ul>\n
LOCATION:The Google Workshop will be held in the Pulaski County Tourism Bureau Meeting Room next to the Chamber office
UID:e.1870.2303
SEQUENCE:3
DTSTAMP:20260425T040750Z
URL:https://members.waynesville-strobertchamber.com/events/details/put-my-business-on-the-map-sponsored-by-google-january-2018-2303
END:VEVENT

END:VCALENDAR
