BEGIN:VCALENDAR
VERSION:2.0
PRODID:-//ChamberMaster//Event Calendar 2.0//EN
METHOD:PUBLISH
X-PUBLISHED-TTL:P3D
REFRESH-INTERVAL:P3D
CALSCALE:GREGORIAN
BEGIN:VEVENT
DTSTART:20221015T130000Z
DTEND:20221015T200000Z
X-MICROSOFT-CDO-ALLDAYEVENT:FALSE
SUMMARY:Route 66 Challenge 2022
DESCRIPTION:Route 66 Challenge: Don't miss the fourth year of this legendary event along Historic Route 66 on October 15th. Support a local charity by getting a team together to travel and explore over 33 miles in a competition of strategy to complete missions and discover Pulaski County.
X-ALT-DESC;FMTTYPE=text/html:<strong style="color: rgb(51\, 51\, 51)\; font-family: sans-serif\, Arial\, Verdana\, 'Trebuchet MS'\; font-size: 13px\; line-height: 20.8px\;"><span style="color: blue\;">Route 66 Challenge:</span></strong><span style="color: rgb(51\, 51\, 51)\; font-family: sans-serif\, Arial\, Verdana\, 'Trebuchet MS'\; font-size: 13px\; line-height: 20.8px\; background-color: rgb(255\, 255\, 255)\;">&nbsp\;Don&rsquo\;t miss the fourth year of this legendary event along Historic Route 66 on October 15</span><sup style="color: rgb(51\, 51\, 51)\; font-family: sans-serif\, Arial\, Verdana\, 'Trebuchet MS'\;">th</sup><span style="color: rgb(51\, 51\, 51)\; font-family: sans-serif\, Arial\, Verdana\, 'Trebuchet MS'\; font-size: 13px\; line-height: 20.8px\; background-color: rgb(255\, 255\, 255)\;">. Support a local charity by getting a team together to travel and explore over 33 miles in a competition of strategy to complete missions and discover Pulaski County.</span><br style="color: rgb(51\, 51\, 51)\; font-family: sans-serif\, Arial\, Verdana\, 'Trebuchet MS'\; font-size: 13px\; line-height: 20.8px\;" />\n<span style="color: rgb(51\, 51\, 51)\; font-family: sans-serif\, Arial\, Verdana\, 'Trebuchet MS'\; font-size: 13px\; line-height: 20.8px\; background-color: rgb(255\, 255\, 255)\;">&nbsp\;</span><br style="color: rgb(51\, 51\, 51)\; font-family: sans-serif\, Arial\, Verdana\, 'Trebuchet MS'\; font-size: 13px\; line-height: 20.8px\;" />\n&nbsp\;
LOCATION:
UID:e.1870.2452
SEQUENCE:3
DTSTAMP:20260419T161610Z
URL:https://members.waynesville-strobertchamber.com/events/details/route-66-challenge-2022-2452
END:VEVENT

END:VCALENDAR
