BEGIN:VCALENDAR
VERSION:2.0
PRODID:-//ChamberMaster//Event Calendar 2.0//EN
METHOD:PUBLISH
X-PUBLISHED-TTL:P3D
REFRESH-INTERVAL:P3D
CALSCALE:GREGORIAN
BEGIN:VEVENT
DTSTART:20211201T120000Z
DTEND:20211216T000000Z
X-MICROSOFT-CDO-ALLDAYEVENT:FALSE
SUMMARY:Shop Local in PJs Online Auction 2021
DESCRIPTION:'Tis the Season to Shop Local!\n\nShop our online auction beginning December 1\; 6 am through December 15\; 6 pm. Find the best local products and services for your holiday gift giving. It's All Here and It's All Local!\n\n\n\nThe auction will be conducted via Charity Auctions Today. Find the auction at www.wsrchamber.com. Do not miss out on the opportunity to shop local and in your PJ's.
X-ALT-DESC;FMTTYPE=text/html:&#39\;Tis the Season to Shop Local!<br />\nShop our online auction beginning December 1\; 6 am through December 15\; 6 pm. Find the best local products and services for your holiday gift giving. It&#39\;s All Here and It&#39\;s All Local!<br />\n<br />\nThe auction will be conducted via Charity Auctions Today. Find the auction at www.wsrchamber.com. Do not miss out on the opportunity to shop local and in your PJ&#39\;s.
LOCATION:
UID:e.1870.2415
SEQUENCE:3
DTSTAMP:20260420T071428Z
URL:https://members.waynesville-strobertchamber.com/events/details/shop-local-in-pjs-online-auction-2021-2415
END:VEVENT

END:VCALENDAR
