BEGIN:VCALENDAR
VERSION:2.0
PRODID:-//ChamberMaster//Event Calendar 2.0//EN
METHOD:PUBLISH
X-PUBLISHED-TTL:P3D
REFRESH-INTERVAL:P3D
CALSCALE:GREGORIAN
BEGIN:VEVENT
DTSTART:20200227T153000Z
DTEND:20200227T163000Z
X-MICROSOFT-CDO-ALLDAYEVENT:FALSE
SUMMARY:Tell Your Story Thursday Coffee February 2020
DESCRIPTION:
X-ALT-DESC;FMTTYPE=text/html:
LOCATION:Fairfield Inn by Marriott/Fort Wood Hotels
UID:e.1870.2389
SEQUENCE:3
DTSTAMP:20260423T164847Z
URL:https://members.waynesville-strobertchamber.com/events/details/tell-your-story-thursday-coffee-february-2020-2389
END:VEVENT

END:VCALENDAR
