BEGIN:VCALENDAR
VERSION:2.0
PRODID:-//ChamberMaster//Event Calendar 2.0//EN
METHOD:PUBLISH
X-PUBLISHED-TTL:P3D
REFRESH-INTERVAL:P3D
CALSCALE:GREGORIAN
BEGIN:VEVENT
DTSTART:20200130T143000Z
DTEND:20200130T153000Z
X-MICROSOFT-CDO-ALLDAYEVENT:FALSE
SUMMARY:Tell Your Story Thursday Coffee January 2020
DESCRIPTION:
X-ALT-DESC;FMTTYPE=text/html:
LOCATION:Sellers-Sexton Ford-Lincoln-Mazda
UID:e.1870.2388
SEQUENCE:3
DTSTAMP:20260423T171516Z
URL:https://members.waynesville-strobertchamber.com/events/details/tell-your-story-thursday-coffee-january-2020-2388
END:VEVENT

END:VCALENDAR
