BEGIN:VCALENDAR
VERSION:2.0
PRODID:-//ChamberMaster//Event Calendar 2.0//EN
METHOD:PUBLISH
X-PUBLISHED-TTL:P3D
REFRESH-INTERVAL:P3D
CALSCALE:GREGORIAN
BEGIN:VEVENT
DTSTART:20180412T140000Z
DTEND:20180412T193000Z
X-MICROSOFT-CDO-ALLDAYEVENT:FALSE
SUMMARY:Tour of Fort Leonard Wood 18
DESCRIPTION:
X-ALT-DESC;FMTTYPE=text/html:
LOCATION:Fort Leonard Wood
UID:e.1870.2328
SEQUENCE:3
DTSTAMP:20260424T232947Z
URL:https://members.waynesville-strobertchamber.com/events/details/tour-of-fort-leonard-wood-18-2328
END:VEVENT

END:VCALENDAR
