BEGIN:VCALENDAR
VERSION:2.0
PRODID:-//ChamberMaster//Event Calendar 2.0//EN
METHOD:PUBLISH
X-PUBLISHED-TTL:P3D
REFRESH-INTERVAL:P3D
CALSCALE:GREGORIAN
BEGIN:VEVENT
DTSTART:20200408T150000Z
DTEND:20200408T160000Z
X-MICROSOFT-CDO-ALLDAYEVENT:FALSE
SUMMARY:U.S. Chamber COVID-19 Webinar
DESCRIPTION:The webinar will cover information about the U.S. Small Business Administration Economic Injury Disaster Loans and feature experts. A question and answer session follows the webinar presentation. Registration is required (register for one only). After you register\, you will receive log in and conference call information two-days prior to the event.\n\n\n\nInstructions: This is a webinar ONLY. Please do not travel to a physical location to attend. Once you have registered for this webinar\, you will receive a link to join on the scheduled day and time. You do NOT need a web camera to participate. You can join by computer\, Zoom app on your phone or dial from your phone like a regular call. There is no fee to attend this webinar.\n\n\n\n*100 member limited*\n\n\n\nFor those unable to attend a recording will be available in April 10th Chamber update email.
X-ALT-DESC;FMTTYPE=text/html:The webinar will cover information about the U.S. Small Business Administration Economic Injury Disaster Loans and feature experts. A question and answer session follows the webinar presentation. Registration is required (register for one only). After you register\, you will receive log in and conference call information two-days prior to the event.<br />\n<br />\nInstructions: This is a webinar ONLY. Please do not travel to a physical location to attend. Once you have registered for this webinar\, you will receive a link to join on the scheduled day and time. You do NOT need a web camera to participate. You can join by computer\, Zoom app on your phone or dial from your phone like a regular call. There is no fee to attend this webinar.<br />\n<br />\n*100 member limited*<br />\n<br />\nFor those unable to attend a recording will be available in April 10th Chamber update email.
LOCATION:Join by computer\, Zoom app on your phone or dial from your phone like a regular call.
UID:e.1870.2392
SEQUENCE:3
DTSTAMP:20260423T124944Z
URL:https://members.waynesville-strobertchamber.com/events/details/u-s-chamber-covid-19-webinar-2392
END:VEVENT

END:VCALENDAR
