BEGIN:VCALENDAR
VERSION:2.0
PRODID:-//ChamberMaster//Event Calendar 2.0//EN
METHOD:PUBLISH
X-PUBLISHED-TTL:P3D
REFRESH-INTERVAL:P3D
CALSCALE:GREGORIAN
BEGIN:VEVENT
DTSTART:20210224T180000Z
DTEND:20210224T190000Z
X-MICROSOFT-CDO-ALLDAYEVENT:FALSE
SUMMARY:Virtual Etiquette Workshop Feb 2021
DESCRIPTION:Virtual meetings are a versatile and powerful tool for organizations that enable teams to communicate information quickly while being more productive. By establishing clear rules of etiquette to clarify expectations for team member behavior\, leaders can make sure they're getting the most out of their virtual meetings. Join us for an interactive workshop on how to set expectations and make your virtual meetings more effective!
X-ALT-DESC;FMTTYPE=text/html:<span class="JsGRdQ" style="color: rgb(0\, 0\, 0)\;">Virtual meetings are a versatile and powerful tool for organizations that enable teams to communicate information quickly while being more productive. By establishing clear rules of etiquette to clarify expectations for team member behavior\, leaders can make sure they&#39\;re getting the most out of their virtual meetings.</span><span class="JsGRdQ white-space-prewrap" style="color: rgb(0\, 0\, 0)\;"> </span><span class="JsGRdQ" style="color: rgb(0\, 0\, 0)\;">Join us for an interactive workshop on how to set expectations and make</span><span class="JsGRdQ white-space-prewrap" style="color: rgb(0\, 0\, 0)\;"> </span><span class="JsGRdQ" style="color: rgb(0\, 0\, 0)\;">your virtual meetings more effective!</span>
LOCATION:Zoom
UID:e.1870.2430
SEQUENCE:3
DTSTAMP:20260422T220354Z
URL:https://members.waynesville-strobertchamber.com/events/details/virtual-etiquette-workshop-feb-2021-2430
END:VEVENT

END:VCALENDAR
